Workbook

Sheet Ankieta do Wniosku
A1: Instrukcja: wypełnij ten arkusz jeśli chcesz abyśmy zajęli się również opracowaniem wniosku o dofinansowanie.
A2: FIRMA (jaka) / OS PRYWATNA
A3: Imię i nazwisko / Beneficjenta / Rolnik
A4: Numer telefonu
A5: Adres e-mail
A6: Adres zamieszkania (Województwo, powiat, Kod Pocztowy, Miejscowość, Ulica, Nr) + (jeżeli inny) do korespondencji
A7: Podaj swój numer PESEL
A8: Podaj swój NIP
A9: Nazwa Instalatora / Komentarze
A10: Jaki rodzaj działalności rolniczej prowadzisz?
A11: Czy jesteś podatnikiem podatku VAT?
A12: Jeśli jesteś podatnikiem podatku VAT czy prowadzisz dokumentację środków trwałych?
... A42: Od kiedy samodzielnie prowadzisz gospodarstwo rolne? Dotyczy Młodego Rolnika DD/MM/RRRR

Sheet kalkulator punktów
A1: OBSZAR B: PV+aku+~PC / kolektory cieplne
B2: suma punktów (wymagane min. 6) | C2: =SUM(H3:H9) -> 0
A3: 1 | B3: jeżeli wnioskodawca prowadził w okresie ostatnich 12 miesięcy poprzedzających miesiąc w którym przypada dzień rozpoczęcia terminu naboru, produkcję zwierząt gospodarskich, a liczba tych zwierząt utrzymywanych w gospodarstwie w tym okresie, obliczana w kalkulatorze opracowanym przez ARiMR, w przeliczeniu na DJP, wynosi co najmniej 5 – przyznaje się 4 punkty | C3: NIE | D3: TAK | E3: NIE | H3: =IF(C3="TAK",4,0) -> 0
A4: 2 | B4: jeżeli w dniu złożenia wniosku o przyznanie pomocy wnioskodawca prowadzi produkcję ekologiczną – przyznaje się 2 punkty | C4: NIE | D4: TAK | E4: NIE | H4: =IF(C4="TAK",2,0) -> 0
A5: 3 | B5: jeżeli operacja będzie realizowana na obszarach chronionych – przyznaje się 1 punkt | C5: NIE | D5: TAK | E5: NIE | H5: =IF(C5="TAK",1,0) -> 0
A6: 4 | B6: jeżeli w dniu złożenia wniosku o przyznanie pomocy wnioskodawca jest młodym rolnikiem – przyznaje się 2 punkty | C6: NIE | D6: TAK | E6: NIE | H6: =IF(C6="TAK",2,0) -> 0
A7: 5 | B7: jeżeli wnioskodawcy nie przyznano pomocy na zakup PV w ramach poddziałania „Wsparcie inwestycji w gospodarstwach rolnych” w ramach operacji typu „Modernizacja gospodarstw rolnych” lub „Inwestycje w gospodarstwach położonych na obszarach Natura 2000” objętego Programem Rozwoju Obszarów Wiejskich na lata 2014–2020 – przyznaje się 3 punkty | C7: PRZYZNANO | D7: NIE PRZYZNANO | E7: PRZYZNANO | H7: =IF(C7="NIE PRZYZNANO",3,0) -> 0
A8: 6 | B8: jeżeli sprawność PV wynosi: - powyżej 21% – przyznaje się 3 punkty, - powyżej 18% i nie więcej niż 21% – przyznaje się 2 punkty, - nie więcej niż 18% – przyznaje się 1 punkt. | C8: BRAK | D8: >21% | E8: <21%,18%) | F8: ≤18% | G8: BRAK | H8: =IF(C8=">21%",3,IF(C8="<21%,18%)",2,IF(C8="BRAK",0,1))) -> 0
A9: 7 | B9: jeżeli sprawność optyczna kolektorów słonecznych wynosi: - powyżej 80 % – przyznaje się 3 punkty, - powyżej 70% i nie więcej niż 80% – przyznaje się 2 punkty, - nie więcej niż 70% – przyznaje się 1 punkt. | C9: BRAK | D9: >80% | E9: <80%,70%) | F9: ≤70% | G9: BRAK | H9: =IF(C9=">80%",3,IF(C9="<80%,70%)",2,IF(C9="BRAK",0,1))) -> 0

Sheet obszar B - PV+aku, ~PC
A1: Wypełnij ten arkusz abyśmy przygotowali projekt instalacji w obszarze B (PV+aku+~PC / kolektory cieplne)
A3: zmienna | B3: wartość | C3: komentarz / przykłady
A4: dane dot. Wnioskodawcy
A5: numer EP | C5: numer ewidencyjny producenta
A6: imię i nazwisko lub nazwa Wnioskodawcy
A7: adres Wnioskodawcy
A8: dane dot. obiektu i instalacji
A9: województwo
A10: powiat
A11: gmina
A12: miejscowość
A13: kod pocztowy
A14: ulica
A15: numer budynku/lokalu
A16: numer i nazwa obrębu ewidencyjnego
A17: numer działki ewidencyjnej
A18: zużycie energii elektrycznej wynikające z faktur wystawionych w ostatnich 12 miesięcach poprzedzająch miesiąc złożenia wniosku [kWh] | C18: np. 15698 kWh
A19: moc przyłączeniowa obiektu [kW] | C19: sama cyfra, szczegóły do rozpisania w arkuszu, "Rachunki i urządzenia"
A20: Licznik energii: | C20: wybierz z listy
A21: zestawienie urządzeń elektrycznych występujacych w gospodarstwie rolnym | B21: patrz arkusz "Rachunki i urządzenia" | C21: np. ogrzewanie i ciepła woda w części socjalnej, grzejniki olejowe, oświetlenie, podajniki do zboża, wentylator, mieszalnik pasz, śrutownik, żmijka, agregat chłodniczy itp. (opcjonalnie moc urządzenia np. 4 kW)
A22: zestawienie urządzeń elektrycznych występujacych w gospodarstwie domowym | B22: patrz arkusz "Rachunki i urządzenia" | C22: np. prąd bytowy (4 osoby), dodatkowe ogrzewanie piwnicy, grzejniki elektryczne w łazienkach, drobnica domowa jako prąd bytowy czyli wyszczególnić kuchnia indukcyjna, lodówka, piekarnik, ekspres do kawy, pralka, zmywarka, czajnik elektryczny, TV itp. (opcjonalnie moc urządzenia np. 1 kW)
A23: czy obiekt posiada aktualnie produkty OZE tj. (instalacja fotowoltaiczna, magazyn energii, pompa ciepła)? (jeśli tak proszę o podanie mocy danej instalacji/ pojemności magazynu oraz informację czy jest to na potrzeby mieszkalne czy gospodarcze) | C23: np. instalacja fotowoltaiczna o mocy 9,99 kWp z magazynem energii 5 kWh
A24: czy przewidywany jest montaż systemu zarządzania przepływami energii - jeśli tak to jaki?
A25: Dane instalacji PV i magazynu energii
A26: moc instalacji: | C26: sama cyfra - moc instalacji na modułach np.: 9,86
A27: marka i model modułów PV
A28: sprawność modułów PV (min. 21% )
A29: falowniki PV
A30: moc AC falowników (suma)
A31: marka i model magazynu energii
A32: pojemność magazynu energii
A33: moc znamionowa magazynu
A34: źródło danych dot. mocy magazynu | C34: wpisać czy odczyt z karty katalogowej czy z obliczenia iloczynu prądu i napięcia nominalnego / ładowania
A35: Dane pompy ciepła (opcjonalnie)
A36: marka i model
A37: rodzaj | C37: np. powietrze / woda
A38: moc znamionowa
A39: wydajność
A40: roczne zużycie energii wg. wyliczenia z cieplo.app
A41: pompa ciepła będzie na cele gospodarcze czy mieszkalne? (jeśli zastosowano) | B41: na cele gospodarcze
A42: wymagane załączniki:
A43: 1. rysunek z zaznaczonym planowanym miejscem montażu modułów, falownika oraz magazynu energii (pompy ciepła) np. na rzucie z google maps => może być odręcznie
A44: 2. rysunek z opisanymi np. na mapie z geoportalu nazwami budynków które wchodzą w skład gospodarstwa (np. budynek mieszkalny / budynek gospodarczy / chlewnia / obora) => może być odręcznie
A45: 3. faktury za energię elektryczną wystawione w ostatnich 12 miesięcach poprzedzająch miesiąc złożenia wniosku => ostatnia za wrzecień 2025 (może być wydruk ze strony, jeśli nie ma faktur)
A46: 4. symulacja zużycia pompy ciepła np. poprzez raport ze strony https://cieplo.app (jeśli dotyczy)
A47: 5. wypełniony arkusz "Rachunki i urządzenia"

Sheet Rachunki i urządzenia
B1: Instrukcja: wpisz w żółte pola zużycie energii wg. faktur, które trzeba będzie wysłać razem z wnioskiem. Wypełnij obie kolumny C i F jeśli masz dwa liczniki na gospodarstwo lub tylko kolumnę C jeśli masz jeden licznik. Jeśli dostajesz faktury w innych czasookresach (np. półroczne / roczne) to dostosuj odpowiednio kolumny z datami. Ostatni wpis musi kończyć się na dacie 30.09.2026r.
B2: Zużycie energii elektrycznej wg. faktur (gospodarstwo lub licznik wspólny) | E2: Zużycie energii elektrycznej wg. faktur (gospodarstwo lub licznik wspólny) - jeśli licznik jest jeden zostaw puste
B3: OKRES | C3: ZUŻYCIE [kWh] => wypełnij precyzyjnie wg. faktur - jest to weryfikowane na etapie oceny wniosku i podlega ew. korekcie | E3: OKRES | F3: ZUŻYCIE [kWh] => wypełnij precyzyjnie wg. faktur - jest to weryfikowane na etapie oceny wniosku i podlega ew. korekcie
B4: 01.10.2025 – 30.11.2025 | E4: 01.10.2025 – 30.11.2025 | H4: Wnioskodawca, który nie posiada faktur dokładnie pokrywających wskazane okresy, może przedstawić faktury z innymi datami, o ile łącznie obejmują przedział 01.10.2025-30.09.2026. Tabelę można edytować, dopasowując przedziały czasowe do zakresów przedstawionych na fakturach. W przypadku braku faktury za okres końcowy do 30.09.2026 dopuszcza się: a) odczyt licznika na dzień 30.09.2026 , albo b) wartość uśrednioną na podstawie poprzednich miesięcy. c)oszacowanie zużycia na pdst. mocy urządzeń Dane tymczasowe będą wymagały korekty lub uzupełnienia na etapie oceny.
B5: 01.12.2025 – 31.01.2026 | E5: 01.12.2025 – 31.01.2026
B6: 01.02.2026 – 31.03.2026 | E6: 01.02.2026 – 31.03.2026
B7: 01.04.2026 – 31.05.2026 | E7: 01.04.2026 – 31.05.2026
B8: 01.06.2026 – 31.07.2026 | E8: 01.06.2026 – 31.07.2026
B9: 01.08.2026 – 30.09.2026 | E9: 01.08.2026 – 30.09.2026
B10: SUMA [kWh] | E10: SUMA [kWh]
B12: Instrukcja: wprowadź w komórkach C13 i F13 zużycie energii w podziale na gospodarstwo i cele bytowe. Jeśli masz wspólny licznik, wprowadź takie wartości aby w wierszu 14 sprawdzenie wyszło pozytywnie. Od wiersza 16 w dół podane są przykładowe urządzenia, dostosuj je do swojej sytuacji, pomieszaj tak aby lista nie była identyczna jak u innych wnioskodawców.
B13: roczne zużycie energii na cele gospodarskie [kWh]: | E13: roczne zużycie energii na cele bytowe [kWh]:
B14: procentowy współczynnik zużycia z faktur (min. 80%) : | C14: =C13/C10 -> #DIV/0! | E14: procentowy współczynnik zużycia z faktur (maks. 20%) : | F14: =F13/C10 -> #DIV/0!
B15: Urządzenia elektryczne w gospodarstwie rolnym | C15: moc urządzeń | E15: Urządzenia elektryczne w gospodarstwie domowym | F15: moc urządzenia
B16: suszarnia drzewicz | C16: 20 kW | E16: prąd bytowy dla członków gospodarstwa: wpisz ilość os.
B17: podnośnik kubełkowy | C17: 7,5 kW | E17: lodówko - zamrażalka | F17: 0,8 kW
B18: żmijka do przeładunku zboża | C18: 2x 2,2 kW | E18: pralka | F18: 3 kW
B19: grzejnik elektryczny do ogrzewania warsztatu | C19: 2,5 kW | E19: suszarka | F19: 1,5 kW
B20: wyposażenie warsztatu (szlifierki, wiertarki, prostowniki) | C20: 4,5 kW | E20: grzejniki elektryczne do łazienek x2 | F20: 2 x 1,5 kW
B21: wyposażenie budynku socjalnego: suszarki do rąk, lodówka, | C21: 3,6 kW | E21: kuchenka indukcyjna | F21: 7 kW
B22: mikrofalówka, komputer | C22: 2,7 kW | E22: piekarnik elektryczny | F22: 3 kW
B23: oświetlenie placu | C23: 5,2 kW | E23: bojler elektryczny 100 L | F23: 3 kW
B24: oświetlenie magazynu | C24: 2,2 kW | E24: oświetlenie dom | F24: 0,5 kW
B25: Dojarko sprężarka | C25: 2,2 kW | E25: telewizor x 2 | F25: 2 x 0,2 kW
B26: Dojarka przewodowa | C26: 2,2 kW
B27: Chłodziarka do mleka | C27: 3,0 kW
B28: Mieszadlo | C28: 1,5 kW
B29: bojler elektryczny 150L | C29: 4,5 kW
B38: powyższe urządzenia są przykładowe, wpisz zgodnie ze stanem faktycznym

Sheet obliczenia
A1: Tego arkusza NIE uzupełniamy | C1: ='obszar B - PV+aku, ~PC'!A3 -> zmienna | D1: ='obszar B - PV+aku, ~PC'!A5 -> numer EP | E1: ='obszar B - PV+aku, ~PC'!A6 -> imię i nazwisko lub nazwa Wnioskodawcy | F1: ='obszar B - PV+aku, ~PC'!A7 -> adres Wnioskodawcy | G1: ='obszar B - PV+aku, ~PC'!A9 -> województwo | H1: ='obszar B - PV+aku, ~PC'!A10 -> powiat | I1: ='obszar B - PV+aku, ~PC'!A11 -> gmina | J1: ='obszar B - PV+aku, ~PC'!A12 -> miejscowość | K1: ='obszar B - PV+aku, ~PC'!A13 -> kod pocztowy | L1: ='obszar B - PV+aku, ~PC'!A14 -> ulica | M1: ='obszar B - PV+aku, ~PC'!A15 -> numer budynku/lokalu | N1: ='obszar B - PV+aku, ~PC'!A16 -> numer i nazwa obrębu ewidencyjnego | O1: ='obszar B - PV+aku, ~PC'!A17 -> numer działki ewidencyjnej | P1: ='obszar B - PV+aku, ~PC'!A18 -> zużycie energii elektrycznej wynikające z faktur wystawionych w ostatnich 12 miesięcach poprzedzająch miesiąc złożenia wniosku [kWh] | Q1: ='obszar B - PV+aku, ~PC'!A19 -> moc przyłączeniowa obiektu [kW] | R1: ='obszar B - PV+aku, ~PC'!A20 -> Licznik energii: | S1: ='obszar B - PV+aku, ~PC'!A23 -> czy obiekt posiada aktualnie produkty OZE tj. (instalacja fotowoltaiczna, magazyn energii, pompa ciepła)? (jeśli tak proszę o podanie mocy danej instalacji/ pojemności magazynu oraz informację czy jest to na potrzeby mieszkalne czy gospodarcze) | T1: ='obszar B - PV+aku, ~PC'!A26 -> moc instalacji: | U1: ='obszar B - PV+aku, ~PC'!A27 -> marka i model modułów PV | V1: ='obszar B - PV+aku, ~PC'!A28 -> sprawność modułów PV (min. 21% ) | W1: ='obszar B - PV+aku, ~PC'!A29 -> falowniki PV | X1: ='obszar B - PV+aku, ~PC'!A30 -> moc AC falowników (suma) | Y1: ='obszar B - PV+aku, ~PC'!A31 -> marka i model magazynu energii | Z1: ='obszar B - PV+aku, ~PC'!A32 -> pojemność magazynu energii | AA1: ='obszar B - PV+aku, ~PC'!A33 -> moc znamionowa magazynu | AB1: ='obszar B - PV+aku, ~PC'!A34 -> źródło danych dot. mocy magazynu | AC1: ='obszar B - PV+aku, ~PC'!A36 -> marka i model | AD1: ='obszar B - PV+aku, ~PC'!A37 -> rodzaj | AE1: ='obszar B - PV+aku, ~PC'!A38 -> moc znamionowa | AF1: ='obszar B - PV+aku, ~PC'!A39 -> wydajność | AG1: ='obszar B - PV+aku, ~PC'!A40 -> roczne zużycie energii wg. wyliczenia z cieplo.app | AH1: ='obszar B - PV+aku, ~PC'!A41 -> pompa ciepła będzie na cele gospodarcze czy mieszkalne? (jeśli zastosowano) | AI1: maksymalna moc instalacji | AJ1: % zużycia cele gospodarcze | AK1: % zużycia cele mieszkalne | AL1: % zużycia cele gospodarcze | AM1: % zużycia cele mieszkalne | AN1: % mocy instalacji cele gospodarcze | AO1: % mocy instalacji cele mieszkalne | AP1: zużycie + zużycie PC | AQ1: maksymalna moc instalacji z PC | AR1: 20% rocznego zużycia energii przez PC | AS1: maksymalna moc instalacji z PC (wariant 20%) | AT1: maksymalna moc instalacji z PC (wariant 20%) | AU1: roczne zużycie energii na cele gospodarskie | AV1: roczne zużycie energii na cele bytowe | AW1: 1% mocy instalacji (na potrzeby funkcjonowania instalacji) | AX1: 1% mocy instalacji (na potrzeby funkcjonowania instalacji)
A2: zmienić rodzaj danych na ogólne na końcu zmienić rodzaj danych na tekstowe | C2: ='obszar B - PV+aku, ~PC'!B3 -> wartość | D2: ='obszar B - PV+aku, ~PC'!B5 -> 0 | E2: ='obszar B - PV+aku, ~PC'!B6 -> 0 | F2: ='obszar B - PV+aku, ~PC'!B7 -> 0 | G2: ='obszar B - PV+aku, ~PC'!B9 -> 0 | H2: ='obszar B - PV+aku, ~PC'!B10 -> 0 | I2: ='obszar B - PV+aku, ~PC'!B11 -> 0 | J2: ='obszar B - PV+aku, ~PC'!B12 -> 0 | K2: ='obszar B - PV+aku, ~PC'!B13 -> 0 | L2: ='obszar B - PV+aku, ~PC'!B14 -> 0 | M2: ='obszar B - PV+aku, ~PC'!B15 -> 0 | N2: ='obszar B - PV+aku, ~PC'!B16 -> 0 | O2: ='obszar B - PV+aku, ~PC'!B17 -> 0 | P2: ='obszar B - PV+aku, ~PC'!B18 -> 0 | Q2: ='obszar B - PV+aku, ~PC'!B19 -> 0 | R2: ='obszar B - PV+aku, ~PC'!B20 -> 0 | S2: =IF('obszar B - PV+aku, ~PC'!B23="","W gospodarstwie Wnioskodawcy nie ma aktualnie żadnych produktów OZE tj. (instalacja fotowoltaiczna, magazyn energii, pompa ciepła). ") -> W gospodarstwie Wnioskodawcy nie ma aktualnie żadnych produktów OZE tj. (instalacja fotowoltaiczna, magazyn energii, pompa ciepła). | T2: ='obszar B - PV+aku, ~PC'!B26 -> 0 | U2: ='obszar B - PV+aku, ~PC'!B27 -> 0 | V2: ='obszar B - PV+aku, ~PC'!B28 -> 0 | W2: ='obszar B - PV+aku, ~PC'!B29 -> 0 | X2: ='obszar B - PV+aku, ~PC'!B30 -> 0 | Y2: ='obszar B - PV+aku, ~PC'!B31 -> 0 | Z2: ='obszar B - PV+aku, ~PC'!B32 -> 0 | AA2: ='obszar B - PV+aku, ~PC'!B33 -> 0 | AB2: ='obszar B - PV+aku, ~PC'!B34 -> 0 | AC2: ='obszar B - PV+aku, ~PC'!B36 -> 0 | AD2: ='obszar B - PV+aku, ~PC'!B37 -> 0 | AE2: ='obszar B - PV+aku, ~PC'!B38 -> 0 | AF2: ='obszar B - PV+aku, ~PC'!B39 -> 0 | AG2: ='obszar B - PV+aku, ~PC'!B40 -> 0 | AH2: ='obszar B - PV+aku, ~PC'!B41 -> na cele gospodarcze | AI2: =P2/1000 -> 0 | AJ2: ='Rachunki i urządzenia'!C14 -> #DIV/0! | AK2: ='Rachunki i urządzenia'!F14 -> #DIV/0! | AL2: =ROUND((AJ2*100),0) -> #DIV/0! | AM2: =ROUND((AK2*100),0) -> #DIV/0! | AN2: =ROUND((AL2/100*T2),2) -> #DIV/0! | AO2: =ROUND((AM2/100*T2),2) -> #DIV/0! | AP2: =P2+AG2 -> 0 | AQ2: =ROUND((AP2/1000),2) -> 0 | AR2: =ROUND((0.2*AG2),1) -> 0 | AS2: =P2+AR2 -> 0 | AT2: =ROUND((AS2/1000),2) -> 0 | AU2: ='Rachunki i urządzenia'!C13 -> 0 | AV2: ='Rachunki i urządzenia'!F13 -> 0 | AW2: =0.01*T2 -> 0 | AX2: =ROUND(AW2,2) -> 0

Sheet 1obliczenia ppoż
A1: Tego arkusza NIE uzupełniamy | AF1: Ib | AG1: moc*1000 | AH1: In | AI1: obliczenia - In | AJ1: obliczenia - min. przekrój AC | AK1: min. przekrój AC | AM1: I2 | AN1: Iz
AF2: =ROUND(AG2/(1.73*400*1),2) -> #REF! | AG2: =#REF!*1000 -> #REF! | AH2: =#REF! -> #REF! | AI2: =IF(AF4>=6,IF(AF4>=10,IF(AF4>=16,IF(AF4>=20,IF(AF4>=25,IF(AF4>=32,IF(AF4>=40,IF(AF4>=50,IF(AF4>=63,IF(AF4>=80,IF(AF4>=100,IF(AF4>=125,IF(AF4>=160,IF(AF4>=200,IF(AF4>=224,IF(AF4>=250,IF(AF4>=300,IF(AF4>=315,IF(AF4>=400,"wyliczyć odrębnie",400),315),300),250),224),200),160),125),100),80),63),50),40),32),25),20),16),10),6) -> #REF! | AJ2: =IF(AH2>15,IF(AH2>20,IF(AH2>27,IF(AH2>34,IF(AH2>46,IF(AH2>62,IF(AH2>80,IF(AH2>99,IF(AH2>118,IF(AN2>149,IF(AN2>179,IF(AN2>206,IF(AN2>225,IF(AN2>255,IF(AN2>297,IF(AN2>339,IF(AN2>464,"wyliczyć odrębnie"),"300 mm2 w ułożeniu B2 wg. Tablicy B.52.4"),"240 mm2 w ułożeniu B2 wg. Tablicy B.52.4"),"185 mm2 w ułożeniu B2 wg. Tablicy B.52.4"),"150 mm2 w ułożeniu B2 wg. Tablicy B.52.4"),"120 mm2 w ułożeniu B2 wg. Tablicy B.52.4"),"95 mm2 w ułożeniu B2 wg. Tablicy B.52.4"),"70 mm2 w ułożeniu B2 wg. Tablicy B.52.4"),"50 mm2 w ułożeniu B2 wg. Tablicy B.52.4"),"35 mm2 w ułożeniu B2 wg. Tablicy B.52.4"),"25 mm2 w ułożeniu B2 wg. Tablicy B.52.4"),"16 mm2 w ułożeniu B2 wg. Tablicy B.52.4"),"10 mm2 w ułożeniu B2 wg. Tablicy B.52.4"),"6 mm2 w ułożeniu B2 wg. Tablicy B.52.4"),"4 mm2 w ułożeniu B2 wg. Tablicy B.52.4"),"2,5 mm2 w ułożeniu B2 wg. Tablicy B.52.4"),"1,5 mm2 w ułożeniu B2 wg. Tablicy B.52.4") -> #REF! | AK2: =#REF! -> #REF! | AM2: =1.45*AH2 -> #REF! | AN2: =AM2/1.45 -> #REF!
AF3: 1,11*Ib
AF4: =AF2*1.11 -> #REF!
AG9: Ib = | AH9: =#REF!*1000 -> #REF! | AI9: /(1,73*400*0,95) =
AG10: In = | AH10: Ib = | AI10: =AO9*1.2 -> 0 | AJ10: [A]
AG11: Dobrano zabezpieczenie o charakterystyce…………
AG18: Standardowe prądy znamionowe to szereg: 6 A, 10 A, 16 A, 20 A, 25 A, 32 A, 40 A, 50 A, 63 A, 80 A, 100 A, 125 A

Sheet obiekty - legenda
C1: rodzaje obiektów: | D1: Obowiązek PWP: | E1: strefy zagrożenia wybuchem | F1: instrukcja bezpieczeństwa pożarowego | G1: technologia akumulatorowa
C2: budynek mieszkalny jednorodzinny | D2: NIE DOTYCZY - budynek mieszkalny jednorodzinny lub falownik na zewnątrz budynku | E2: TAK | F2: TAK | G2: LiFePO4
C3: instalacja posadowiona na gruncie/wiacie (falownik pod modułami) | D3: TAK - jeśli falownik jest w środku obiektu, potrzebne będzie automatyczne rozłączanie strony DC na wejściu przewodów solarnych do obiektu | E3: NIE | F3: NIE | G3: Li-ion (wybuchowe)
C4: inne | D4: NIE (strefa pożarowa nie przekracza 1000 m³ i brak stref zagrożenia wybuchem) | G4: kwasowo-ołowiowe
G5: inne niewybuchowe (Ni-CD, Ni-MH)
G6: inne: wpisz własny tekst
